BEGIN:VCALENDAR
VERSION:2.0
PRODID:-//Rocky Patel Premium Cigars - ECPv6.15.17//NONSGML v1.0//EN
CALSCALE:GREGORIAN
METHOD:PUBLISH
X-ORIGINAL-URL:https://www.rockypatel.com
X-WR-CALDESC:Events for Rocky Patel Premium Cigars
REFRESH-INTERVAL;VALUE=DURATION:PT1H
X-Robots-Tag:noindex
X-PUBLISHED-TTL:PT1H
BEGIN:VTIMEZONE
TZID:America/New_York
BEGIN:DAYLIGHT
TZOFFSETFROM:-0500
TZOFFSETTO:-0400
TZNAME:EDT
DTSTART:20250309T070000
END:DAYLIGHT
BEGIN:STANDARD
TZOFFSETFROM:-0400
TZOFFSETTO:-0500
TZNAME:EST
DTSTART:20251102T060000
END:STANDARD
BEGIN:DAYLIGHT
TZOFFSETFROM:-0500
TZOFFSETTO:-0400
TZNAME:EDT
DTSTART:20260308T070000
END:DAYLIGHT
BEGIN:STANDARD
TZOFFSETFROM:-0400
TZOFFSETTO:-0500
TZNAME:EST
DTSTART:20261101T060000
END:STANDARD
BEGIN:DAYLIGHT
TZOFFSETFROM:-0500
TZOFFSETTO:-0400
TZNAME:EDT
DTSTART:20270314T070000
END:DAYLIGHT
BEGIN:STANDARD
TZOFFSETFROM:-0400
TZOFFSETTO:-0500
TZNAME:EST
DTSTART:20271107T060000
END:STANDARD
END:VTIMEZONE
BEGIN:VTIMEZONE
TZID:America/Chicago
BEGIN:DAYLIGHT
TZOFFSETFROM:-0600
TZOFFSETTO:-0500
TZNAME:CDT
DTSTART:20250309T080000
END:DAYLIGHT
BEGIN:STANDARD
TZOFFSETFROM:-0500
TZOFFSETTO:-0600
TZNAME:CST
DTSTART:20251102T070000
END:STANDARD
BEGIN:DAYLIGHT
TZOFFSETFROM:-0600
TZOFFSETTO:-0500
TZNAME:CDT
DTSTART:20260308T080000
END:DAYLIGHT
BEGIN:STANDARD
TZOFFSETFROM:-0500
TZOFFSETTO:-0600
TZNAME:CST
DTSTART:20261101T070000
END:STANDARD
BEGIN:DAYLIGHT
TZOFFSETFROM:-0600
TZOFFSETTO:-0500
TZNAME:CDT
DTSTART:20270314T080000
END:DAYLIGHT
BEGIN:STANDARD
TZOFFSETFROM:-0500
TZOFFSETTO:-0600
TZNAME:CST
DTSTART:20271107T070000
END:STANDARD
END:VTIMEZONE
BEGIN:VEVENT
DTSTART;TZID=America/New_York:20260311T110000
DTEND;TZID=America/New_York:20260311T140000
DTSTAMP:20260425T132432
CREATED:20260227T205203Z
LAST-MODIFIED:20260227T205203Z
UID:66322-1773226800-1773237600@www.rockypatel.com
SUMMARY:Northside Cigar & Tobacco
DESCRIPTION:
URL:https://www.rockypatel.com/event/northside-cigar-tobacco/
LOCATION:Northside Cigar & Tobacco\, 8613 N Michigan Rd\, Indianapolis\, IN\, 46268\, United States
END:VEVENT
BEGIN:VEVENT
DTSTART;TZID=America/New_York:20260311T170000
DTEND;TZID=America/New_York:20260311T200000
DTSTAMP:20260425T132432
CREATED:20260225T215312Z
LAST-MODIFIED:20260225T215312Z
UID:66286-1773248400-1773259200@www.rockypatel.com
SUMMARY:Island Girl Cigar Bar Ponte Vedra Beach
DESCRIPTION:
URL:https://www.rockypatel.com/event/island-girl-cigar-bar-ponte-vedra-beach/
LOCATION:Island Girl Cigar Bar Ponte Vedra Beach\, 820 A1A N #E18\, Ponte Vedra Beach\, FL\, 32082\, United States
END:VEVENT
BEGIN:VEVENT
DTSTART;TZID=America/Chicago:20260311T180000
DTEND;TZID=America/Chicago:20260311T210000
DTSTAMP:20260425T132432
CREATED:20260212T141834Z
LAST-MODIFIED:20260212T142137Z
UID:66214-1773252000-1773262800@www.rockypatel.com
SUMMARY:PCB Cigars (feat. Nish Patel)
DESCRIPTION:
URL:https://www.rockypatel.com/event/pcb-cigars-feat-nish-patel/
LOCATION:PCB Cigars\, 17329 Panama City Beach Pkwy.\, Panama City Beach\, FL\, 32413\, United States
CATEGORIES:Nish Patel
ATTACH;FMTTYPE=image/png:https://www.rockypatel.com/wp-content/uploads/2026/02/Screenshot-2026-02-12-092055.png
END:VEVENT
BEGIN:VEVENT
DTSTART;TZID=America/New_York:20260311T180000
DTEND;TZID=America/New_York:20260311T210000
DTSTAMP:20260425T132432
CREATED:20260227T165823Z
LAST-MODIFIED:20260227T165823Z
UID:66319-1773252000-1773262800@www.rockypatel.com
SUMMARY:Nolan's Tobacco & Cigar Grand Rapids
DESCRIPTION:
URL:https://www.rockypatel.com/event/nolans-tobacco-cigar-grand-rapids/
LOCATION:Nolan’s Tobacco & Cigar Grand Rapids\, 3835 28th St SE #107\, Grand Rapids\, MI\, 49512\, United States
END:VEVENT
END:VCALENDAR