BEGIN:VCALENDAR
VERSION:2.0
PRODID:-//Rocky Patel Premium Cigars - ECPv6.15.17//NONSGML v1.0//EN
CALSCALE:GREGORIAN
METHOD:PUBLISH
X-ORIGINAL-URL:https://www.rockypatel.com
X-WR-CALDESC:Events for Rocky Patel Premium Cigars
REFRESH-INTERVAL;VALUE=DURATION:PT1H
X-Robots-Tag:noindex
X-PUBLISHED-TTL:PT1H
BEGIN:VTIMEZONE
TZID:America/New_York
BEGIN:DAYLIGHT
TZOFFSETFROM:-0500
TZOFFSETTO:-0400
TZNAME:EDT
DTSTART:20250309T070000
END:DAYLIGHT
BEGIN:STANDARD
TZOFFSETFROM:-0400
TZOFFSETTO:-0500
TZNAME:EST
DTSTART:20251102T060000
END:STANDARD
BEGIN:DAYLIGHT
TZOFFSETFROM:-0500
TZOFFSETTO:-0400
TZNAME:EDT
DTSTART:20260308T070000
END:DAYLIGHT
BEGIN:STANDARD
TZOFFSETFROM:-0400
TZOFFSETTO:-0500
TZNAME:EST
DTSTART:20261101T060000
END:STANDARD
BEGIN:DAYLIGHT
TZOFFSETFROM:-0500
TZOFFSETTO:-0400
TZNAME:EDT
DTSTART:20270314T070000
END:DAYLIGHT
BEGIN:STANDARD
TZOFFSETFROM:-0400
TZOFFSETTO:-0500
TZNAME:EST
DTSTART:20271107T060000
END:STANDARD
END:VTIMEZONE
BEGIN:VTIMEZONE
TZID:America/Chicago
BEGIN:DAYLIGHT
TZOFFSETFROM:-0600
TZOFFSETTO:-0500
TZNAME:CDT
DTSTART:20250309T080000
END:DAYLIGHT
BEGIN:STANDARD
TZOFFSETFROM:-0500
TZOFFSETTO:-0600
TZNAME:CST
DTSTART:20251102T070000
END:STANDARD
BEGIN:DAYLIGHT
TZOFFSETFROM:-0600
TZOFFSETTO:-0500
TZNAME:CDT
DTSTART:20260308T080000
END:DAYLIGHT
BEGIN:STANDARD
TZOFFSETFROM:-0500
TZOFFSETTO:-0600
TZNAME:CST
DTSTART:20261101T070000
END:STANDARD
BEGIN:DAYLIGHT
TZOFFSETFROM:-0600
TZOFFSETTO:-0500
TZNAME:CDT
DTSTART:20270314T080000
END:DAYLIGHT
BEGIN:STANDARD
TZOFFSETFROM:-0500
TZOFFSETTO:-0600
TZNAME:CST
DTSTART:20271107T070000
END:STANDARD
END:VTIMEZONE
BEGIN:VEVENT
DTSTART;TZID=America/New_York:20260312T160000
DTEND;TZID=America/New_York:20260312T190000
DTSTAMP:20260425T120917
CREATED:20260227T165720Z
LAST-MODIFIED:20260227T165720Z
UID:66317-1773331200-1773342000@www.rockypatel.com
SUMMARY:Nolan's Tobacco & Cigar Bar
DESCRIPTION:
URL:https://www.rockypatel.com/event/nolans-tobacco-cigar-bar/
LOCATION:Nolan’s Tobacco & Cigar Bar\, 336 E. Front St.\, Traverse City\, MI\, 49684\, United States
END:VEVENT
BEGIN:VEVENT
DTSTART;TZID=America/Chicago:20260312T170000
DTEND;TZID=America/Chicago:20260312T200000
DTSTAMP:20260425T120917
CREATED:20260217T184854Z
LAST-MODIFIED:20260217T184854Z
UID:66241-1773334800-1773345600@www.rockypatel.com
SUMMARY:Single Malt & Cigar Bar by Rocky Patel (feat. Rocky Patel)
DESCRIPTION:
URL:https://www.rockypatel.com/event/single-malt-cigar-bar-by-rocky-patel-feat-rocky-patel/
LOCATION:Single Malt & Cigar Bar by Rocky Patel\, 2018 Lindell Ave\, Nashville\, TN\, 37203\, United States
CATEGORIES:Rocky Patel
ATTACH;FMTTYPE=image/jpeg:https://www.rockypatel.com/wp-content/uploads/2020/05/Rocky.jpg
END:VEVENT
BEGIN:VEVENT
DTSTART;TZID=America/New_York:20260312T170000
DTEND;TZID=America/New_York:20260312T220000
DTSTAMP:20260425T120917
CREATED:20260205T144203Z
LAST-MODIFIED:20260205T144203Z
UID:66148-1773334800-1773352800@www.rockypatel.com
SUMMARY:Dad's Cigar Warehouse
DESCRIPTION:
URL:https://www.rockypatel.com/event/dads-cigar-warehouse-2/
LOCATION:Dad’s Cigar Warehouse\, 130 Rockland Plaza\, Nanuet\, NY\, 10954\, United States
END:VEVENT
BEGIN:VEVENT
DTSTART;TZID=America/Chicago:20260312T180000
DTEND;TZID=America/Chicago:20260312T210000
DTSTAMP:20260425T120917
CREATED:20260212T142112Z
LAST-MODIFIED:20260212T142112Z
UID:66216-1773338400-1773349200@www.rockypatel.com
SUMMARY:PCB Cigars 2 (feat. Nish Patel)
DESCRIPTION:
URL:https://www.rockypatel.com/event/pcb-cigars-2-feat-nish-patel/
LOCATION:PCB Cigars 2\, 8015 Front Beach Rd\, Panama City Beach\, FL\, 32407\, United States
CATEGORIES:Rocky Patel
ATTACH;FMTTYPE=image/png:https://www.rockypatel.com/wp-content/uploads/2026/02/Screenshot-2026-02-12-092055.png
END:VEVENT
BEGIN:VEVENT
DTSTART;TZID=America/Chicago:20260312T190000
DTEND;TZID=America/Chicago:20260312T230000
DTSTAMP:20260425T120917
CREATED:20260305T194021Z
LAST-MODIFIED:20260305T194021Z
UID:66374-1773342000-1773356400@www.rockypatel.com
SUMMARY:BURN by Rocky Patel Indy
DESCRIPTION:
URL:https://www.rockypatel.com/event/burn-by-rocky-patel-indy-2/
LOCATION:BURN by Rocky Patel Indy\, 110 S Meridian St\, Indianapolis\, IN\, 46204\, United States
END:VEVENT
END:VCALENDAR