BEGIN:VCALENDAR
VERSION:2.0
PRODID:-//Rocky Patel Premium Cigars - ECPv6.15.17//NONSGML v1.0//EN
CALSCALE:GREGORIAN
METHOD:PUBLISH
X-WR-CALNAME:Rocky Patel Premium Cigars
X-ORIGINAL-URL:https://www.rockypatel.com
X-WR-CALDESC:Events for Rocky Patel Premium Cigars
REFRESH-INTERVAL;VALUE=DURATION:PT1H
X-Robots-Tag:noindex
X-PUBLISHED-TTL:PT1H
BEGIN:VTIMEZONE
TZID:America/Los_Angeles
BEGIN:DAYLIGHT
TZOFFSETFROM:-0800
TZOFFSETTO:-0700
TZNAME:PDT
DTSTART:20250309T100000
END:DAYLIGHT
BEGIN:STANDARD
TZOFFSETFROM:-0700
TZOFFSETTO:-0800
TZNAME:PST
DTSTART:20251102T090000
END:STANDARD
BEGIN:DAYLIGHT
TZOFFSETFROM:-0800
TZOFFSETTO:-0700
TZNAME:PDT
DTSTART:20260308T100000
END:DAYLIGHT
BEGIN:STANDARD
TZOFFSETFROM:-0700
TZOFFSETTO:-0800
TZNAME:PST
DTSTART:20261101T090000
END:STANDARD
BEGIN:DAYLIGHT
TZOFFSETFROM:-0800
TZOFFSETTO:-0700
TZNAME:PDT
DTSTART:20270314T100000
END:DAYLIGHT
BEGIN:STANDARD
TZOFFSETFROM:-0700
TZOFFSETTO:-0800
TZNAME:PST
DTSTART:20271107T090000
END:STANDARD
END:VTIMEZONE
BEGIN:VTIMEZONE
TZID:America/New_York
BEGIN:DAYLIGHT
TZOFFSETFROM:-0500
TZOFFSETTO:-0400
TZNAME:EDT
DTSTART:20250309T070000
END:DAYLIGHT
BEGIN:STANDARD
TZOFFSETFROM:-0400
TZOFFSETTO:-0500
TZNAME:EST
DTSTART:20251102T060000
END:STANDARD
BEGIN:DAYLIGHT
TZOFFSETFROM:-0500
TZOFFSETTO:-0400
TZNAME:EDT
DTSTART:20260308T070000
END:DAYLIGHT
BEGIN:STANDARD
TZOFFSETFROM:-0400
TZOFFSETTO:-0500
TZNAME:EST
DTSTART:20261101T060000
END:STANDARD
BEGIN:DAYLIGHT
TZOFFSETFROM:-0500
TZOFFSETTO:-0400
TZNAME:EDT
DTSTART:20270314T070000
END:DAYLIGHT
BEGIN:STANDARD
TZOFFSETFROM:-0400
TZOFFSETTO:-0500
TZNAME:EST
DTSTART:20271107T060000
END:STANDARD
END:VTIMEZONE
BEGIN:VTIMEZONE
TZID:America/Chicago
BEGIN:DAYLIGHT
TZOFFSETFROM:-0600
TZOFFSETTO:-0500
TZNAME:CDT
DTSTART:20250309T080000
END:DAYLIGHT
BEGIN:STANDARD
TZOFFSETFROM:-0500
TZOFFSETTO:-0600
TZNAME:CST
DTSTART:20251102T070000
END:STANDARD
BEGIN:DAYLIGHT
TZOFFSETFROM:-0600
TZOFFSETTO:-0500
TZNAME:CDT
DTSTART:20260308T080000
END:DAYLIGHT
BEGIN:STANDARD
TZOFFSETFROM:-0500
TZOFFSETTO:-0600
TZNAME:CST
DTSTART:20261101T070000
END:STANDARD
BEGIN:DAYLIGHT
TZOFFSETFROM:-0600
TZOFFSETTO:-0500
TZNAME:CDT
DTSTART:20270314T080000
END:DAYLIGHT
BEGIN:STANDARD
TZOFFSETFROM:-0500
TZOFFSETTO:-0600
TZNAME:CST
DTSTART:20271107T070000
END:STANDARD
END:VTIMEZONE
BEGIN:VEVENT
DTSTART;TZID=America/Los_Angeles:20260313T150000
DTEND;TZID=America/Los_Angeles:20260313T200000
DTSTAMP:20260425T104232
CREATED:20260302T162117Z
LAST-MODIFIED:20260302T162117Z
UID:66339-1773414000-1773432000@www.rockypatel.com
SUMMARY:Escondido Cigars
DESCRIPTION:
URL:https://www.rockypatel.com/event/escondido-cigars/
LOCATION:Escondido Cigars\, 1835 S. Centre City Pkwy.\, Escondido\, CA\, 92025\, United States
END:VEVENT
BEGIN:VEVENT
DTSTART;TZID=America/New_York:20260313T160000
DTEND;TZID=America/New_York:20260313T220000
DTSTAMP:20260425T104232
CREATED:20260227T212011Z
LAST-MODIFIED:20260227T212011Z
UID:66325-1773417600-1773439200@www.rockypatel.com
SUMMARY:Woodland Cigar Co
DESCRIPTION:
URL:https://www.rockypatel.com/event/woodland-cigar-co-3/
LOCATION:Woodland Cigar Co.\, 46 N. Sandusky St.\, Delaware\, OH\, 43015\, United States
END:VEVENT
BEGIN:VEVENT
DTSTART;TZID=America/New_York:20260313T170000
DTEND;TZID=America/New_York:20260313T190000
DTSTAMP:20260425T104232
CREATED:20260310T131021Z
LAST-MODIFIED:20260310T131021Z
UID:66397-1773421200-1773428400@www.rockypatel.com
SUMMARY:Island Smoke Shop
DESCRIPTION:
URL:https://www.rockypatel.com/event/island-smoke-shop/
LOCATION:Island Smoke Shop\, 103400 Overseas Hwy #106\, Key Largo\, FL\, 33037\, United States
END:VEVENT
BEGIN:VEVENT
DTSTART;TZID=America/Chicago:20260313T180000
DTEND;TZID=America/Chicago:20260313T210000
DTSTAMP:20260425T104232
CREATED:20260212T142231Z
LAST-MODIFIED:20260212T142231Z
UID:66220-1773424800-1773435600@www.rockypatel.com
SUMMARY:Havana Rey's Cigar Shop & Lounge (feat. Nish Patel)
DESCRIPTION:
URL:https://www.rockypatel.com/event/havana-reys-cigar-shop-lounge-feat-nish-patel/
LOCATION:Havana Rey’s Cigar Shop & Lounge\, 2351 Airport Blvd.\, Mobile\, AL\, 36606\, United States
CATEGORIES:Nish Patel
ATTACH;FMTTYPE=image/jpeg:https://www.rockypatel.com/wp-content/uploads/2023/03/RP_23-03-24_Photo_Employees_IT_DSC1452-scaled.jpg
END:VEVENT
BEGIN:VEVENT
DTSTART;TZID=America/New_York:20260313T180000
DTEND;TZID=America/New_York:20260313T220000
DTSTAMP:20260425T104232
CREATED:20260311T132544Z
LAST-MODIFIED:20260311T132544Z
UID:66404-1773424800-1773439200@www.rockypatel.com
SUMMARY:OC Cigar Lounge
DESCRIPTION:
URL:https://www.rockypatel.com/event/oc-cigar-lounge/
LOCATION:OC Cigar Lounge\, 13416 Occoquan Rd.\, Woodbridge\, VA\, 22191\, United States
END:VEVENT
END:VCALENDAR