BEGIN:VCALENDAR
VERSION:2.0
PRODID:-//Rocky Patel Premium Cigars - ECPv6.15.17//NONSGML v1.0//EN
CALSCALE:GREGORIAN
METHOD:PUBLISH
X-ORIGINAL-URL:https://www.rockypatel.com
X-WR-CALDESC:Events for Rocky Patel Premium Cigars
REFRESH-INTERVAL;VALUE=DURATION:PT1H
X-Robots-Tag:noindex
X-PUBLISHED-TTL:PT1H
BEGIN:VTIMEZONE
TZID:America/New_York
BEGIN:DAYLIGHT
TZOFFSETFROM:-0500
TZOFFSETTO:-0400
TZNAME:EDT
DTSTART:20250309T070000
END:DAYLIGHT
BEGIN:STANDARD
TZOFFSETFROM:-0400
TZOFFSETTO:-0500
TZNAME:EST
DTSTART:20251102T060000
END:STANDARD
BEGIN:DAYLIGHT
TZOFFSETFROM:-0500
TZOFFSETTO:-0400
TZNAME:EDT
DTSTART:20260308T070000
END:DAYLIGHT
BEGIN:STANDARD
TZOFFSETFROM:-0400
TZOFFSETTO:-0500
TZNAME:EST
DTSTART:20261101T060000
END:STANDARD
BEGIN:DAYLIGHT
TZOFFSETFROM:-0500
TZOFFSETTO:-0400
TZNAME:EDT
DTSTART:20270314T070000
END:DAYLIGHT
BEGIN:STANDARD
TZOFFSETFROM:-0400
TZOFFSETTO:-0500
TZNAME:EST
DTSTART:20271107T060000
END:STANDARD
END:VTIMEZONE
BEGIN:VEVENT
DTSTART;TZID=America/New_York:20260314T130000
DTEND;TZID=America/New_York:20260314T170000
DTSTAMP:20260425T091344
CREATED:20251125T145357Z
LAST-MODIFIED:20251125T145357Z
UID:65776-1773493200-1773507600@www.rockypatel.com
SUMMARY:The Great Smoke 2026
DESCRIPTION:The Great Smoke 2026\, The Greatest Show On Earth\, will bring the celebration to South Florida AND into your living rooms!!\nThe country’s biggest and best cigar event returns once again with a with the LIVE IN PERSON EVENT and VIRTUAL BROADCAST event. The Great Smoke 2026- The Greatest Show On Earth will prove once again to be the biggest and best of them all. If you can’t make it in person (the ultimate experience)\, you can still purchase a VIRTUAL ticket and not only receive all the goodies\, special offerings\, and promotional deals\, but also enjoy the LIVE experience from the comfort of your own home! Michael Herklots will be reprising his role as VIRTUAL host for the epic event\, broadcasting live from the TGS on site studio and joined by our returning co-hosts\, Kim Keeny and Paul DeGrocco in the field. \nAdding more fun to the party every year\, The Great Smoke 2026 features a whopping FOUR DAYS of pre-event parties\, afterparties\, and of course\, the main event itself. For those making the trek to the Sunshine State\, get ready to experience all the greatest show on earth! Get lost in a fun filled afternoon of cigars\, food\, drinks\, great performances\, and all the great legends from the cigar industry! Whether attending in person or virtually\, all attendees will receive identical TGS PartyPacks! Virtual attendees will receive their Party Packs shipped to their location a couple of weeks prior to the event. Live attendees will receive their packs on the day of the main event\, with ONE BIG TWIST…NO MORE TICKET BOOKS! That’s right! This year you will receive a custom package TGS SWAG BOX that will contain ALL OF YOUR EVENT CIGARS INSIDE UPON ENTRY! No more long lines and spending time collecting your Event Cigars. The Great Smoke 2026 main event will be held at South Florida Fairgrounds\, allowing enough space for cigar enthusiasts\, cigar manufacturers\, and all of the epic activities that The Great Smoke has become known over the years. \nThe Red Meat Lover’s Club Pre-Event dinner returns in 2026 with Guest Manufacturer Steve Saka of Dunbarton Tobacco & Trust Cigars. As always. this year’s dinner with garnished with assortments of tasty starters served with Big Top flair. As always the Red Meat Lover’s Club will be serving up copious amounts of mouthwatering tasty red meat for dinner. Prepare yourself an insane assortment of meats and sustenance as far as the eye can see! Don’t be a rookie and fill up early\, this is a marathon\, not a race!  Tickets must be purchased separately from The Great Smoke admission. \nWhether you plan on attending the pre-event parties\, the afterparty\, everything in between\, or simply enjoying the afternoon from afar\, be prepared for an experience that will long not be forgotten! \nThe Great Smoke 2026 Event Schedule\nTHURSDAY MARCH 12\nWhistle Pig Whiskey Tasting hosted by Terence Reilly of Aganorsa Cigars (TICKET REQUIRED)\nTIME: 4:00 PMLOCATION: Smoke Inn Boynton Beach\nKick Off Party with Rafael Nodal of Altadis USA (OPEN EVENT)\nTIME: 7:00 PMLOCATION: Smoke Inn Boynton Beach\nFRIDAY MARCH 13\nFriday Night with Nick Melillo of Foundation Cigars (OPEN EVENT)\nTIME: 7:00 PMLOCATION: Smoke Inn Boynton Beach\nRed Meat Lover’s Dinner with Steve Saka of Dunbarton Tobacco & Trust (TICKET REQUIRED)\nBe the first in the country to try the new RML Spicy Beef Stick! Click Here For More Info\nTIME: 7:00 PM – 10:00 PMLOCATION: South Florida Fairgrounds\nSATURDAY MARCH 14\nTailgate Party hosted by Drew Estate(OPEN EVENT)\nTIME: 10:00 AM – 12:30 PMLOCATION: South Florida Fairgrounds\nThe Great Smoke Main Event (TICKET REQUIRED)\nTIME: 1:00 PM – 5:00 PMLOCATION: South Florida FairgroundsVIP Ticket Holders will be admitted one hour earlier. 12:00 PM\nThe After Party with Rick Rodriguez of West Tampa Cigar (OPEN EVENT)\nTIME: 7:00 PMLOCATION: Smoke Inn Boynton Beach\nSUNDAY MARCH 15\nFarewell Brunch hosted by Oliva Cigars (TICKET REQUIRED)\nTIME: 12:00 PMLOCATION: Smoke Inn Boynton Beach\nLOCATION ADDRESSES\nSmoke Inn Boynton Beach\n1030 Gateway Blvd\nBoynton Beach FL\, 33426South Florida Fairgrounds\n9067 Southern Blvd.\nWest Palm Beach FL\, 33411\nYOU MUST BE 21 OR OLDER TO ATTEND.
URL:https://www.rockypatel.com/event/the-great-smoke-2026/
LOCATION:South Florida Fairgrounds\, 9067 Southern Blvd.\, West Palm Beach\, FL\, 33411\, United States
ATTACH;FMTTYPE=image/png:https://www.rockypatel.com/wp-content/uploads/2025/11/tgs2026-logo-th.png
END:VEVENT
END:VCALENDAR