BEGIN:VCALENDAR
VERSION:2.0
PRODID:-//Rocky Patel Premium Cigars - ECPv6.15.17//NONSGML v1.0//EN
CALSCALE:GREGORIAN
METHOD:PUBLISH
X-WR-CALNAME:Rocky Patel Premium Cigars
X-ORIGINAL-URL:https://www.rockypatel.com
X-WR-CALDESC:Events for Rocky Patel Premium Cigars
REFRESH-INTERVAL;VALUE=DURATION:PT1H
X-Robots-Tag:noindex
X-PUBLISHED-TTL:PT1H
BEGIN:VTIMEZONE
TZID:America/Phoenix
BEGIN:STANDARD
TZOFFSETFROM:-0700
TZOFFSETTO:-0700
TZNAME:MST
DTSTART:20250101T000000
END:STANDARD
END:VTIMEZONE
BEGIN:VTIMEZONE
TZID:America/New_York
BEGIN:DAYLIGHT
TZOFFSETFROM:-0500
TZOFFSETTO:-0400
TZNAME:EDT
DTSTART:20250309T070000
END:DAYLIGHT
BEGIN:STANDARD
TZOFFSETFROM:-0400
TZOFFSETTO:-0500
TZNAME:EST
DTSTART:20251102T060000
END:STANDARD
BEGIN:DAYLIGHT
TZOFFSETFROM:-0500
TZOFFSETTO:-0400
TZNAME:EDT
DTSTART:20260308T070000
END:DAYLIGHT
BEGIN:STANDARD
TZOFFSETFROM:-0400
TZOFFSETTO:-0500
TZNAME:EST
DTSTART:20261101T060000
END:STANDARD
BEGIN:DAYLIGHT
TZOFFSETFROM:-0500
TZOFFSETTO:-0400
TZNAME:EDT
DTSTART:20270314T070000
END:DAYLIGHT
BEGIN:STANDARD
TZOFFSETFROM:-0400
TZOFFSETTO:-0500
TZNAME:EST
DTSTART:20271107T060000
END:STANDARD
END:VTIMEZONE
BEGIN:VEVENT
DTSTART;TZID=America/Phoenix:20260321T100000
DTEND;TZID=America/Phoenix:20260321T220000
DTSTAMP:20260425T001031
CREATED:20260213T190502Z
LAST-MODIFIED:20260213T190502Z
UID:66234-1774087200-1774130400@www.rockypatel.com
SUMMARY:Carefree Bourbon & Cigar Festival
DESCRIPTION:Saturday\, March 21st\, 2026\n10:00 AM \nVIP Early Entry \n10:00 AM – 1:00 PM \nLive Music (Stephanie Chacon) \n11:00 AM \nEvent Opens to Public \n1:00 PM – 4:00 PM \nLive Music (Max Tovstyi Band) \n7:00 PM \nCigar Booths Close \n5:00 PM – 8:00 PM \nLive Music (ShitShow Romeo) \n8:00 PM – 10:00 PM \nVIP After Party at Sticks (Live Music by Ben & Chris Chapman)
URL:https://www.rockypatel.com/event/carefree-bourbon-cigar-festival-2/
LOCATION:Sticks Cigar Shop\, 4719 Lower Roswell Rd #132B\, Marietta\, GA\, 30068\, United States
ATTACH;FMTTYPE=image/png:https://www.rockypatel.com/wp-content/uploads/2025/02/Cigar-Festival-Logo-1.png
END:VEVENT
BEGIN:VEVENT
DTSTART;TZID=America/New_York:20260321T120000
DTEND;TZID=America/New_York:20260321T180000
DTSTAMP:20260425T001031
CREATED:20260309T211108Z
LAST-MODIFIED:20260309T211108Z
UID:66392-1774094400-1774116000@www.rockypatel.com
SUMMARY:Cigars International Hamburg (feat. Nimmy D)
DESCRIPTION:
URL:https://www.rockypatel.com/event/cigars-international-hamburg-feat-nimmy-d/
LOCATION:Cigars International Hamburg\, PA\, 1635 Mountain Rd.\, Hamburg\, PA\, 19526\, United States
CATEGORIES:Nimmy D
ATTACH;FMTTYPE=image/jpeg:https://www.rockypatel.com/wp-content/uploads/2019/10/Cigar-Maker-Nimish-Desai.jpg
END:VEVENT
BEGIN:VEVENT
DTSTART;TZID=America/New_York:20260321T130000
DTEND;TZID=America/New_York:20260321T180000
DTSTAMP:20260425T001031
CREATED:20260302T190605Z
LAST-MODIFIED:20260302T190605Z
UID:66352-1774098000-1774116000@www.rockypatel.com
SUMMARY:Miami Cigar Festival
DESCRIPTION:Saturday\, March 21\, 2026 (1pm-6pm)\n The Miami Cigar Festival returns for an unforgettable Festival Day\, bringing together cigar enthusiasts\, brands\, and industry leaders for a full day of cigars\, culture\, and community. \nFrom 1 PM to 6 PM\, guests will enjoy premium cigars\, spirits tastings\, delicious food\, and live entertainment in a vibrant Miami setting. Festival Day features curated experiences\, special guests\, interactive activations\, exciting giveaways\, and more\, creating the ultimate celebration of cigar lifestyle and culture. \nWhether you’re a seasoned aficionado or new to the cigar scene\, Festival Day offers a relaxed\, yet elevated atmosphere designed to connect\, celebrate\, and enjoy the best of what the cigar world has to offer. \nWhat to expect: \nPremium cigars\nSpirits tastings\nFood offerings\nLive entertainment\nGiveaways & special activations\nVendor experiences & brand showcases \nThis is the main event of the Miami Cigar Festival; don’t miss the day everyone will be talking about. \nLocation: Pullman Miami Hotel \nDate: Saturday\, March 21\, 2026 \nTime: 1PM–6:00 PM \nVIP EARLY ACCESS: 12pm \nRecommended Attire: Miami Chic / Resort Casual
URL:https://www.rockypatel.com/event/miami-cigar-festival/
LOCATION:Pullman Miami Hotel\, 5800 Waterford District Dr\, Miami\, FL\, 33126\, United States
ATTACH;FMTTYPE=image/webp:https://www.rockypatel.com/wp-content/uploads/2026/03/rsw_800cg_truem.webp
END:VEVENT
END:VCALENDAR