BEGIN:VCALENDAR
VERSION:2.0
PRODID:-//Rocky Patel Premium Cigars - ECPv6.15.17//NONSGML v1.0//EN
CALSCALE:GREGORIAN
METHOD:PUBLISH
X-ORIGINAL-URL:https://www.rockypatel.com
X-WR-CALDESC:Events for Rocky Patel Premium Cigars
REFRESH-INTERVAL;VALUE=DURATION:PT1H
X-Robots-Tag:noindex
X-PUBLISHED-TTL:PT1H
BEGIN:VTIMEZONE
TZID:America/Phoenix
BEGIN:STANDARD
TZOFFSETFROM:-0700
TZOFFSETTO:-0700
TZNAME:MST
DTSTART:20250101T000000
END:STANDARD
END:VTIMEZONE
BEGIN:VTIMEZONE
TZID:America/New_York
BEGIN:DAYLIGHT
TZOFFSETFROM:-0500
TZOFFSETTO:-0400
TZNAME:EDT
DTSTART:20250309T070000
END:DAYLIGHT
BEGIN:STANDARD
TZOFFSETFROM:-0400
TZOFFSETTO:-0500
TZNAME:EST
DTSTART:20251102T060000
END:STANDARD
BEGIN:DAYLIGHT
TZOFFSETFROM:-0500
TZOFFSETTO:-0400
TZNAME:EDT
DTSTART:20260308T070000
END:DAYLIGHT
BEGIN:STANDARD
TZOFFSETFROM:-0400
TZOFFSETTO:-0500
TZNAME:EST
DTSTART:20261101T060000
END:STANDARD
BEGIN:DAYLIGHT
TZOFFSETFROM:-0500
TZOFFSETTO:-0400
TZNAME:EDT
DTSTART:20270314T070000
END:DAYLIGHT
BEGIN:STANDARD
TZOFFSETFROM:-0400
TZOFFSETTO:-0500
TZNAME:EST
DTSTART:20271107T060000
END:STANDARD
END:VTIMEZONE
BEGIN:VEVENT
DTSTART;TZID=America/Phoenix:20260322T100000
DTEND;TZID=America/Phoenix:20260322T200000
DTSTAMP:20260424T225331
CREATED:20260213T191140Z
LAST-MODIFIED:20260213T191140Z
UID:66236-1774173600-1774209600@www.rockypatel.com
SUMMARY:Carefree Bourbon & Cigar Festival
DESCRIPTION:Sunday\, March 22nd\, 2026\n10:00 AM \nVIP Early Entry \n10:00 AM – 1:00 PM \nLive Music (Josh Williams & Stephanie Groot) \n11:00 AM \nEvent Opens to Public \n1:00 PM – 1:30 PM \nQ&A Session with Bourbon Vendor \n1:00 PM – 4:00 PM \nLive Music (High Horse Honkey Tonk Band) \n4:30 PM – 5:00 PM \nQ&A Session with Cigar Vendor \n7:00 PM \nCigar Booths Close \n5:00 PM – 8:00 PM \nLive Music (Cave Creek Legends) \n8:00 PM \nEvent Ends
URL:https://www.rockypatel.com/event/carefree-bourbon-cigar-festival-3/
LOCATION:Sticks Cigar Shop\, 4719 Lower Roswell Rd #132B\, Marietta\, GA\, 30068\, United States
ATTACH;FMTTYPE=image/png:https://www.rockypatel.com/wp-content/uploads/2025/02/Cigar-Festival-Logo-1.png
END:VEVENT
BEGIN:VEVENT
DTSTART;TZID=America/New_York:20260322T120000
DTEND;TZID=America/New_York:20260322T160000
DTSTAMP:20260424T225331
CREATED:20260217T190236Z
LAST-MODIFIED:20260217T190236Z
UID:66244-1774180800-1774195200@www.rockypatel.com
SUMMARY:Cigars International Tampa
DESCRIPTION:
URL:https://www.rockypatel.com/event/cigars-international-tampa/
LOCATION:Cigars International Tampa\, 10660 Palm River Rd\, Tampa\, FL\, 33619\, United States
END:VEVENT
END:VCALENDAR