BEGIN:VCALENDAR
VERSION:2.0
PRODID:-//Rocky Patel Premium Cigars - ECPv6.15.17//NONSGML v1.0//EN
CALSCALE:GREGORIAN
METHOD:PUBLISH
X-WR-CALNAME:Rocky Patel Premium Cigars
X-ORIGINAL-URL:https://www.rockypatel.com
X-WR-CALDESC:Events for Rocky Patel Premium Cigars
REFRESH-INTERVAL;VALUE=DURATION:PT1H
X-Robots-Tag:noindex
X-PUBLISHED-TTL:PT1H
BEGIN:VTIMEZONE
TZID:America/New_York
BEGIN:DAYLIGHT
TZOFFSETFROM:-0500
TZOFFSETTO:-0400
TZNAME:EDT
DTSTART:20250309T070000
END:DAYLIGHT
BEGIN:STANDARD
TZOFFSETFROM:-0400
TZOFFSETTO:-0500
TZNAME:EST
DTSTART:20251102T060000
END:STANDARD
BEGIN:DAYLIGHT
TZOFFSETFROM:-0500
TZOFFSETTO:-0400
TZNAME:EDT
DTSTART:20260308T070000
END:DAYLIGHT
BEGIN:STANDARD
TZOFFSETFROM:-0400
TZOFFSETTO:-0500
TZNAME:EST
DTSTART:20261101T060000
END:STANDARD
BEGIN:DAYLIGHT
TZOFFSETFROM:-0500
TZOFFSETTO:-0400
TZNAME:EDT
DTSTART:20270314T070000
END:DAYLIGHT
BEGIN:STANDARD
TZOFFSETFROM:-0400
TZOFFSETTO:-0500
TZNAME:EST
DTSTART:20271107T060000
END:STANDARD
END:VTIMEZONE
BEGIN:VEVENT
DTSTART;TZID=America/New_York:20260424T170000
DTEND;TZID=America/New_York:20260424T200000
DTSTAMP:20260424T092123
CREATED:20260414T191007Z
LAST-MODIFIED:20260414T191007Z
UID:66637-1777050000-1777060800@www.rockypatel.com
SUMMARY:Professional Smoke
DESCRIPTION:
URL:https://www.rockypatel.com/event/professional-smoke/
LOCATION:Professional Smoke\, 76 S IN 135\, Bargersville\, IN\, 46106\, United States
END:VEVENT
END:VCALENDAR