BEGIN:VCALENDAR
VERSION:2.0
PRODID:-//Rocky Patel Premium Cigars - ECPv6.15.17//NONSGML v1.0//EN
CALSCALE:GREGORIAN
METHOD:PUBLISH
X-WR-CALNAME:Rocky Patel Premium Cigars
X-ORIGINAL-URL:https://www.rockypatel.com
X-WR-CALDESC:Events for Rocky Patel Premium Cigars
REFRESH-INTERVAL;VALUE=DURATION:PT1H
X-Robots-Tag:noindex
X-PUBLISHED-TTL:PT1H
BEGIN:VTIMEZONE
TZID:America/New_York
BEGIN:DAYLIGHT
TZOFFSETFROM:-0500
TZOFFSETTO:-0400
TZNAME:EDT
DTSTART:20240310T070000
END:DAYLIGHT
BEGIN:STANDARD
TZOFFSETFROM:-0400
TZOFFSETTO:-0500
TZNAME:EST
DTSTART:20241103T060000
END:STANDARD
BEGIN:DAYLIGHT
TZOFFSETFROM:-0500
TZOFFSETTO:-0400
TZNAME:EDT
DTSTART:20250309T070000
END:DAYLIGHT
BEGIN:STANDARD
TZOFFSETFROM:-0400
TZOFFSETTO:-0500
TZNAME:EST
DTSTART:20251102T060000
END:STANDARD
BEGIN:DAYLIGHT
TZOFFSETFROM:-0500
TZOFFSETTO:-0400
TZNAME:EDT
DTSTART:20260308T070000
END:DAYLIGHT
BEGIN:STANDARD
TZOFFSETFROM:-0400
TZOFFSETTO:-0500
TZNAME:EST
DTSTART:20261101T060000
END:STANDARD
END:VTIMEZONE
BEGIN:VTIMEZONE
TZID:America/Chicago
BEGIN:DAYLIGHT
TZOFFSETFROM:-0600
TZOFFSETTO:-0500
TZNAME:CDT
DTSTART:20240310T080000
END:DAYLIGHT
BEGIN:STANDARD
TZOFFSETFROM:-0500
TZOFFSETTO:-0600
TZNAME:CST
DTSTART:20241103T070000
END:STANDARD
BEGIN:DAYLIGHT
TZOFFSETFROM:-0600
TZOFFSETTO:-0500
TZNAME:CDT
DTSTART:20250309T080000
END:DAYLIGHT
BEGIN:STANDARD
TZOFFSETFROM:-0500
TZOFFSETTO:-0600
TZNAME:CST
DTSTART:20251102T070000
END:STANDARD
BEGIN:DAYLIGHT
TZOFFSETFROM:-0600
TZOFFSETTO:-0500
TZNAME:CDT
DTSTART:20260308T080000
END:DAYLIGHT
BEGIN:STANDARD
TZOFFSETFROM:-0500
TZOFFSETTO:-0600
TZNAME:CST
DTSTART:20261101T070000
END:STANDARD
END:VTIMEZONE
BEGIN:VEVENT
DTSTART;TZID=America/New_York:20251101T120000
DTEND;TZID=America/New_York:20251101T170000
DTSTAMP:20260419T114732
CREATED:20251028T131332Z
LAST-MODIFIED:20251028T131332Z
UID:65577-1761998400-1762016400@www.rockypatel.com
SUMMARY:Breakwaters Cigar & Whiskey
DESCRIPTION:
URL:https://www.rockypatel.com/event/breakwaters-cigar-whiskey-2/
LOCATION:Breakwaters Cigar & Whiskey Lounge\, 796 Aquidneck Ave\, Middletown\, RI\, 02842\, United States
END:VEVENT
BEGIN:VEVENT
DTSTART;TZID=America/New_York:20251030T190000
DTEND;TZID=America/New_York:20251030T210000
DTSTAMP:20260419T114732
CREATED:20251010T144438Z
LAST-MODIFIED:20251010T144438Z
UID:65470-1761850800-1761858000@www.rockypatel.com
SUMMARY:Corona Cigar Co Lake Mary
DESCRIPTION:
URL:https://www.rockypatel.com/event/corona-cigar-co-lake-mary/
LOCATION:Corona Cigar Co Lake Mary\, 1130 Townpark Ave\, Lake Mary\, FL\, 32746\, United States
END:VEVENT
BEGIN:VEVENT
DTSTART;TZID=America/New_York:20251030T180000
DTEND;TZID=America/New_York:20251030T220000
DTSTAMP:20260419T114732
CREATED:20251024T171426Z
LAST-MODIFIED:20251024T171426Z
UID:65567-1761847200-1761861600@www.rockypatel.com
SUMMARY:Orange Cigar Lounge
DESCRIPTION:
URL:https://www.rockypatel.com/event/orange-cigar-lounge/
LOCATION:Orange Cigar Lounge\, 311 Boston Post Rd\, Orange\, CT\, 06477\, United States
END:VEVENT
BEGIN:VEVENT
DTSTART;TZID=America/New_York:20251029T120000
DTEND;TZID=America/New_York:20251029T160000
DTSTAMP:20260419T114732
CREATED:20251022T144237Z
LAST-MODIFIED:20251022T144237Z
UID:65527-1761739200-1761753600@www.rockypatel.com
SUMMARY:Wild Bill's Tobacco Rochester
DESCRIPTION:
URL:https://www.rockypatel.com/event/wild-bills-tobacco-rochester/
LOCATION:Wild Bill’s Tobacco Rochester\, 1416 Walton Blvd #B\, Rochester\, MI\, 48309\, United States
END:VEVENT
BEGIN:VEVENT
DTSTART;TZID=America/Chicago:20251024T180000
DTEND;TZID=America/Chicago:20251024T220000
DTSTAMP:20260419T114732
CREATED:20251020T170738Z
LAST-MODIFIED:20251020T170738Z
UID:65502-1761328800-1761343200@www.rockypatel.com
SUMMARY:Henry's Cigar Lounge
DESCRIPTION:
URL:https://www.rockypatel.com/event/henrys-cigar-lounge/
LOCATION:Henry’s Cigar Lounge\, 101 S Main St\, Mansfield\, TX\, 76063\, United States
END:VEVENT
BEGIN:VEVENT
DTSTART;TZID=America/New_York:20251024T170000
DTEND;TZID=America/New_York:20251024T210000
DTSTAMP:20260419T114732
CREATED:20251020T134237Z
LAST-MODIFIED:20251020T134237Z
UID:65487-1761325200-1761339600@www.rockypatel.com
SUMMARY:S&L Fine Cigars & Tobacco
DESCRIPTION:
URL:https://www.rockypatel.com/event/sl-fine-cigars-tobacco/
LOCATION:S&L Fine Cigars & Tobacco\, 310 Market St.\, Oxford\, PA\, 19363\, United States
END:VEVENT
BEGIN:VEVENT
DTSTART;TZID=America/New_York:20251024T170000
DTEND;TZID=America/New_York:20251024T190000
DTSTAMP:20260419T114732
CREATED:20251024T210342Z
LAST-MODIFIED:20251024T210342Z
UID:65571-1761325200-1761332400@www.rockypatel.com
SUMMARY:Smoke & Barrel Cigar
DESCRIPTION:
URL:https://www.rockypatel.com/event/smoke-barrel-cigar/
LOCATION:Smoke & Barrel Cigar FL\, 8955 Dadeland Blvd #D170\, Miami\, FL\, 33156\, United States
END:VEVENT
BEGIN:VEVENT
DTSTART;TZID=America/Chicago:20251024T160000
DTEND;TZID=America/Chicago:20251024T190000
DTSTAMP:20260419T114732
CREATED:20251024T192935Z
LAST-MODIFIED:20251024T192935Z
UID:65569-1761321600-1761332400@www.rockypatel.com
SUMMARY:Churchills
DESCRIPTION:
URL:https://www.rockypatel.com/event/churchills-2/
LOCATION:Churchills  NE\, 345 N Main St\, Fremont\, NE\, 68025\, United States
END:VEVENT
END:VCALENDAR