BEGIN:VCALENDAR
VERSION:2.0
PRODID:-//Rocky Patel Premium Cigars - ECPv6.15.17//NONSGML v1.0//EN
CALSCALE:GREGORIAN
METHOD:PUBLISH
X-ORIGINAL-URL:https://www.rockypatel.com
X-WR-CALDESC:Events for Rocky Patel Premium Cigars
REFRESH-INTERVAL;VALUE=DURATION:PT1H
X-Robots-Tag:noindex
X-PUBLISHED-TTL:PT1H
BEGIN:VTIMEZONE
TZID:America/New_York
BEGIN:DAYLIGHT
TZOFFSETFROM:-0500
TZOFFSETTO:-0400
TZNAME:EDT
DTSTART:20250309T070000
END:DAYLIGHT
BEGIN:STANDARD
TZOFFSETFROM:-0400
TZOFFSETTO:-0500
TZNAME:EST
DTSTART:20251102T060000
END:STANDARD
BEGIN:DAYLIGHT
TZOFFSETFROM:-0500
TZOFFSETTO:-0400
TZNAME:EDT
DTSTART:20260308T070000
END:DAYLIGHT
BEGIN:STANDARD
TZOFFSETFROM:-0400
TZOFFSETTO:-0500
TZNAME:EST
DTSTART:20261101T060000
END:STANDARD
BEGIN:DAYLIGHT
TZOFFSETFROM:-0500
TZOFFSETTO:-0400
TZNAME:EDT
DTSTART:20270314T070000
END:DAYLIGHT
BEGIN:STANDARD
TZOFFSETFROM:-0400
TZOFFSETTO:-0500
TZNAME:EST
DTSTART:20271107T060000
END:STANDARD
END:VTIMEZONE
BEGIN:VTIMEZONE
TZID:America/Chicago
BEGIN:DAYLIGHT
TZOFFSETFROM:-0600
TZOFFSETTO:-0500
TZNAME:CDT
DTSTART:20250309T080000
END:DAYLIGHT
BEGIN:STANDARD
TZOFFSETFROM:-0500
TZOFFSETTO:-0600
TZNAME:CST
DTSTART:20251102T070000
END:STANDARD
BEGIN:DAYLIGHT
TZOFFSETFROM:-0600
TZOFFSETTO:-0500
TZNAME:CDT
DTSTART:20260308T080000
END:DAYLIGHT
BEGIN:STANDARD
TZOFFSETFROM:-0500
TZOFFSETTO:-0600
TZNAME:CST
DTSTART:20261101T070000
END:STANDARD
BEGIN:DAYLIGHT
TZOFFSETFROM:-0600
TZOFFSETTO:-0500
TZNAME:CDT
DTSTART:20270314T080000
END:DAYLIGHT
BEGIN:STANDARD
TZOFFSETFROM:-0500
TZOFFSETTO:-0600
TZNAME:CST
DTSTART:20271107T070000
END:STANDARD
END:VTIMEZONE
BEGIN:VTIMEZONE
TZID:America/Los_Angeles
BEGIN:DAYLIGHT
TZOFFSETFROM:-0800
TZOFFSETTO:-0700
TZNAME:PDT
DTSTART:20250309T100000
END:DAYLIGHT
BEGIN:STANDARD
TZOFFSETFROM:-0700
TZOFFSETTO:-0800
TZNAME:PST
DTSTART:20251102T090000
END:STANDARD
BEGIN:DAYLIGHT
TZOFFSETFROM:-0800
TZOFFSETTO:-0700
TZNAME:PDT
DTSTART:20260308T100000
END:DAYLIGHT
BEGIN:STANDARD
TZOFFSETFROM:-0700
TZOFFSETTO:-0800
TZNAME:PST
DTSTART:20261101T090000
END:STANDARD
BEGIN:DAYLIGHT
TZOFFSETFROM:-0800
TZOFFSETTO:-0700
TZNAME:PDT
DTSTART:20270314T100000
END:DAYLIGHT
BEGIN:STANDARD
TZOFFSETFROM:-0700
TZOFFSETTO:-0800
TZNAME:PST
DTSTART:20271107T090000
END:STANDARD
END:VTIMEZONE
BEGIN:VEVENT
DTSTART;TZID=America/New_York:20260424T170000
DTEND;TZID=America/New_York:20260424T200000
DTSTAMP:20260424T074920
CREATED:20260414T191007Z
LAST-MODIFIED:20260414T191007Z
UID:66637-1777050000-1777060800@www.rockypatel.com
SUMMARY:Professional Smoke
DESCRIPTION:
URL:https://www.rockypatel.com/event/professional-smoke/
LOCATION:Professional Smoke\, 76 S IN 135\, Bargersville\, IN\, 46106\, United States
END:VEVENT
BEGIN:VEVENT
DTSTART;TZID=America/New_York:20260425T130000
DTEND;TZID=America/New_York:20260425T170000
DTSTAMP:20260424T074920
CREATED:20260410T141825Z
LAST-MODIFIED:20260410T141825Z
UID:66607-1777122000-1777136400@www.rockypatel.com
SUMMARY:Wright Dunbar Cigar Shoppe
DESCRIPTION:
URL:https://www.rockypatel.com/event/wright-dunbar-cigar-shoppe/
LOCATION:Wright Dunbar Cigar Shoppe & Lounge\, 1153 W Third St\, Dayton\, OH\, 45402\, United States
END:VEVENT
BEGIN:VEVENT
DTSTART;TZID=America/Chicago:20260425T183000
DTEND;TZID=America/Chicago:20260425T223000
DTSTAMP:20260424T074920
CREATED:20260406T144243Z
LAST-MODIFIED:20260406T144243Z
UID:66559-1777141800-1777156200@www.rockypatel.com
SUMMARY:Smoklahoma 2026 (feat. Nish Patel)
DESCRIPTION:Smoklahoma is the premier multi-vendor cigar festival in Oklahoma. Cigar vendors from across the world will converge at Remington Park\,  Saturday\, April 25\, 2026 for this 8th Annual event. Don’t miss your chance to experience the cigars & spirits you love along with many special deals from attending vendors and swag. \nEach Guest (VIP & General Admission) \nWill Enjoy: \nHost Bar\nSpirit Tastings\nFood Stations\nExclusive Event Pricing\nOn-Site Casino and Live Horse Race Betting\nIn addition to all amenities above\, VIP Admission Guests Will receive a Smoklahoma commemorative bag of 20+ cigars from participating vendors AND a Special Gift Valued at Over $100! \nVIP TICKETS\n$275 each (plus processing fees)\nLimit 300 tickets\n6:30 pm – 10:30 pm \nThis one’s for our cigar lovers out there! Each ticket includes a Smoklahoma commemorative bag of cigars from our participating vendors\, Special Gift\, Host Bar\, Spirit Tastings\, Delicious Bites\, and Private Access to trackside racing all in a comfortable setting (indoor & outdoor) with other like-minded Aficionados!  \nGeneral Admission\n(Does Not Include Commemorative bag of Cigars or Special Gift) \n$125 each (plus processing fees)\nLimit 200 tickets\n6:30 pm – 10:30 pm \nFor those who wish to attend Smoklahoma but are not interested in the commemorative bag of cigars. This is perfect for an Aficionado’s spouse or significant other who wishes to enjoy the evening too! General Admission ticket holders will be treated to the same Host Bar\, Spirit Tastings\, Delicious Bites\, and Private Access to trackside racing all in a comfortable setting (indoor & outdoor). Everything but the commemorative bag of cigars.
URL:https://www.rockypatel.com/event/smoklahoma-2026-feat-nish-patel/
LOCATION:ZT Cigars\, 2726 W Britton Rd\, Oklahoma City\, OK\, 73120\, United States
CATEGORIES:Nish Patel
ATTACH;FMTTYPE=image/png:https://www.rockypatel.com/wp-content/uploads/2022/04/Smoklahoma-Logo.png
END:VEVENT
BEGIN:VEVENT
DTSTART;TZID=America/Los_Angeles:20260429T180000
DTEND;TZID=America/Los_Angeles:20260429T210000
DTSTAMP:20260424T074920
CREATED:20260410T141535Z
LAST-MODIFIED:20260410T141535Z
UID:66603-1777485600-1777496400@www.rockypatel.com
SUMMARY:The Humidor Tobacco Fine Cigar (feat. Rocky Patel)
DESCRIPTION:
URL:https://www.rockypatel.com/event/the-humidor-tobacco-fine-cigar-feat-rocky-patel/
LOCATION:The Humidor Tobacco Fine Cigar\, 11027 Balboa Blvd\, Granada Hills\, CA\, 91344\, United States
CATEGORIES:Rocky Patel
ATTACH;FMTTYPE=image/jpeg:https://www.rockypatel.com/wp-content/uploads/2020/05/Rocky-Patel-Factory-700x488-1.jpg
END:VEVENT
BEGIN:VEVENT
DTSTART;TZID=America/New_York:20260430T180000
DTEND;TZID=America/New_York:20260430T200000
DTSTAMP:20260424T074920
CREATED:20260331T210911Z
LAST-MODIFIED:20260331T210911Z
UID:66517-1777572000-1777579200@www.rockypatel.com
SUMMARY:Tobacco Depot Ellenton
DESCRIPTION:
URL:https://www.rockypatel.com/event/tobacco-depot-ellenton/
LOCATION:Tobacco Depot (Ellenton)\, 5909 Factory Shops Blvd.\, Ellenton\, FL\, 34222\, United States
END:VEVENT
BEGIN:VEVENT
DTSTART;TZID=America/New_York:20260430T180000
DTEND;TZID=America/New_York:20260430T210000
DTSTAMP:20260424T074920
CREATED:20260318T195107Z
LAST-MODIFIED:20260318T195107Z
UID:66434-1777572000-1777582800@www.rockypatel.com
SUMMARY:La Casa de la Habana
DESCRIPTION:
URL:https://www.rockypatel.com/event/la-casa-de-la-habana/
LOCATION:La Casa de la Habana\, 4962 Monroe St.\, Toledo\, OH\, 43623\, United States
END:VEVENT
BEGIN:VEVENT
DTSTART;TZID=America/Los_Angeles:20260430T190000
DTEND;TZID=America/Los_Angeles:20260430T220000
DTSTAMP:20260424T074920
CREATED:20260415T132633Z
LAST-MODIFIED:20260415T132633Z
UID:66641-1777575600-1777586400@www.rockypatel.com
SUMMARY:Cigars by Chivas (feat. Rocky Patel)
DESCRIPTION:Come and meet Rocky Patel\, a global icon of the cigar industry\, as he shares his personal and inspiring story of the American Dream. The unique evening will include the following:\n‌\n📅 Thursday April 30th\n🕖 7 PM – 10 PM\n📍 Cigars by Chivas\n🎟️ $100 cover (applied to any Rocky Patel cigars purchase)\n‌\n✅ Free finger food & “refreshments” served by models\n✅ Free swag with all box purchases\n‌\n🚨 LIMITED SPACE! RSVP NOW by calling 626-395-7475.
URL:https://www.rockypatel.com/event/cigars-by-chivas-feat-rocky-patel/
LOCATION:Cigars by Chivas\, 58 S De Lacey Ave #211\, Pasadena\, CA\, 91105\, United States
CATEGORIES:Rocky Patel
ATTACH;FMTTYPE=image/png:https://www.rockypatel.com/wp-content/uploads/2026/04/Screenshot-2026-04-15-092507.png
END:VEVENT
END:VCALENDAR